BEGIN:VCALENDAR
VERSION:2.0
PRODID:-//Grace Anglican Church - ECPv6.15.20//NONSGML v1.0//EN
CALSCALE:GREGORIAN
METHOD:PUBLISH
X-ORIGINAL-URL:https://anglicanministries.org
X-WR-CALDESC:Events for Grace Anglican Church
REFRESH-INTERVAL;VALUE=DURATION:PT1H
X-Robots-Tag:noindex
X-PUBLISHED-TTL:PT1H
BEGIN:VTIMEZONE
TZID:America/New_York
BEGIN:DAYLIGHT
TZOFFSETFROM:-0500
TZOFFSETTO:-0400
TZNAME:EDT
DTSTART:20250309T070000
END:DAYLIGHT
BEGIN:STANDARD
TZOFFSETFROM:-0400
TZOFFSETTO:-0500
TZNAME:EST
DTSTART:20251102T060000
END:STANDARD
BEGIN:DAYLIGHT
TZOFFSETFROM:-0500
TZOFFSETTO:-0400
TZNAME:EDT
DTSTART:20260308T070000
END:DAYLIGHT
BEGIN:STANDARD
TZOFFSETFROM:-0400
TZOFFSETTO:-0500
TZNAME:EST
DTSTART:20261101T060000
END:STANDARD
BEGIN:DAYLIGHT
TZOFFSETFROM:-0500
TZOFFSETTO:-0400
TZNAME:EDT
DTSTART:20270314T070000
END:DAYLIGHT
BEGIN:STANDARD
TZOFFSETFROM:-0400
TZOFFSETTO:-0500
TZNAME:EST
DTSTART:20271107T060000
END:STANDARD
END:VTIMEZONE
BEGIN:VEVENT
DTSTART;VALUE=DATE:20260123
DTEND;VALUE=DATE:20260124
DTSTAMP:20260423T143750
CREATED:20251121T205610Z
LAST-MODIFIED:20251121T205610Z
UID:7980-1769126400-1769212799@anglicanministries.org
SUMMARY:Fast and Abstinence
DESCRIPTION:
URL:https://anglicanministries.org/events/fast-and-abstinence-2/
LOCATION:TX
END:VEVENT
BEGIN:VEVENT
DTSTART;TZID=America/New_York:20260125T110000
DTEND;TZID=America/New_York:20260125T120000
DTSTAMP:20260423T143750
CREATED:20251121T210218Z
LAST-MODIFIED:20251121T210218Z
UID:7990-1769338800-1769342400@anglicanministries.org
SUMMARY:The Third Sunday after Epiphany ~ Conversion of St. Paul
DESCRIPTION:Worship Service: Hymns\, Sermon\, Communion.
URL:https://anglicanministries.org/events/the-third-sunday-after-epiphany-conversion-of-st-paul/
LOCATION:Grace Anglican Church\, 308 North Monroe St\, Waxahachie\, TX\, 75165
END:VEVENT
BEGIN:VEVENT
DTSTART;VALUE=DATE:20260130
DTEND;VALUE=DATE:20260131
DTSTAMP:20260423T143750
CREATED:20251121T205632Z
LAST-MODIFIED:20251121T205632Z
UID:7982-1769731200-1769817599@anglicanministries.org
SUMMARY:Fast and Abstinence
DESCRIPTION:
URL:https://anglicanministries.org/events/fast-and-abstinence-3/
LOCATION:TX
END:VEVENT
END:VCALENDAR