BEGIN:VCALENDAR
VERSION:2.0
PRODID:-//Grace Anglican Church - ECPv6.15.20//NONSGML v1.0//EN
CALSCALE:GREGORIAN
METHOD:PUBLISH
X-ORIGINAL-URL:https://anglicanministries.org
X-WR-CALDESC:Events for Grace Anglican Church
REFRESH-INTERVAL;VALUE=DURATION:PT1H
X-Robots-Tag:noindex
X-PUBLISHED-TTL:PT1H
BEGIN:VTIMEZONE
TZID:America/New_York
BEGIN:DAYLIGHT
TZOFFSETFROM:-0500
TZOFFSETTO:-0400
TZNAME:EDT
DTSTART:20250309T070000
END:DAYLIGHT
BEGIN:STANDARD
TZOFFSETFROM:-0400
TZOFFSETTO:-0500
TZNAME:EST
DTSTART:20251102T060000
END:STANDARD
BEGIN:DAYLIGHT
TZOFFSETFROM:-0500
TZOFFSETTO:-0400
TZNAME:EDT
DTSTART:20260308T070000
END:DAYLIGHT
BEGIN:STANDARD
TZOFFSETFROM:-0400
TZOFFSETTO:-0500
TZNAME:EST
DTSTART:20261101T060000
END:STANDARD
BEGIN:DAYLIGHT
TZOFFSETFROM:-0500
TZOFFSETTO:-0400
TZNAME:EDT
DTSTART:20270314T070000
END:DAYLIGHT
BEGIN:STANDARD
TZOFFSETFROM:-0400
TZOFFSETTO:-0500
TZNAME:EST
DTSTART:20271107T060000
END:STANDARD
END:VTIMEZONE
BEGIN:VEVENT
DTSTART;TZID=America/New_York:20260201T110000
DTEND;TZID=America/New_York:20260201T120000
DTSTAMP:20260423T125722
CREATED:20260117T033933Z
LAST-MODIFIED:20260117T033933Z
UID:8061-1769943600-1769947200@anglicanministries.org
SUMMARY:Septuagesima
DESCRIPTION:Worship Service: Hymns\, Sermon\, Communion.
URL:https://anglicanministries.org/events/septuagesima/
LOCATION:Grace Anglican Church\, 308 North Monroe St\, Waxahachie\, TX\, 75165
END:VEVENT
BEGIN:VEVENT
DTSTART;VALUE=DATE:20260202
DTEND;VALUE=DATE:20260203
DTSTAMP:20260423T125722
CREATED:20260117T035939Z
LAST-MODIFIED:20260117T035939Z
UID:8100-1769990400-1770076799@anglicanministries.org
SUMMARY:The Purification
DESCRIPTION:
URL:https://anglicanministries.org/events/the-purification/
LOCATION:TX
END:VEVENT
BEGIN:VEVENT
DTSTART;VALUE=DATE:20260206
DTEND;VALUE=DATE:20260207
DTSTAMP:20260423T125722
CREATED:20260117T033709Z
LAST-MODIFIED:20260117T033709Z
UID:8053-1770336000-1770422399@anglicanministries.org
SUMMARY:Fast and Abstinence
DESCRIPTION:
URL:https://anglicanministries.org/events/fast-and-abstinence-5/
LOCATION:TX
END:VEVENT
BEGIN:VEVENT
DTSTART;TZID=America/New_York:20260208T110000
DTEND;TZID=America/New_York:20260208T120000
DTSTAMP:20260423T125722
CREATED:20260117T034015Z
LAST-MODIFIED:20260117T034015Z
UID:8063-1770548400-1770552000@anglicanministries.org
SUMMARY:Sexagesima
DESCRIPTION:Worship Service: Hymns\, Sermon\, Communion.
URL:https://anglicanministries.org/events/sexagesima/
LOCATION:Grace Anglican Church\, 308 North Monroe St\, Waxahachie\, TX\, 75165
END:VEVENT
BEGIN:VEVENT
DTSTART;VALUE=DATE:20260213
DTEND;VALUE=DATE:20260214
DTSTAMP:20260423T125722
CREATED:20260117T033727Z
LAST-MODIFIED:20260117T033727Z
UID:8055-1770940800-1771027199@anglicanministries.org
SUMMARY:Fast and Abstinence
DESCRIPTION:
URL:https://anglicanministries.org/events/fast-and-abstinence-6/
LOCATION:TX
END:VEVENT
BEGIN:VEVENT
DTSTART;VALUE=DATE:20260214
DTEND;VALUE=DATE:20260215
DTSTAMP:20260423T125722
CREATED:20260117T034247Z
LAST-MODIFIED:20260117T034247Z
UID:8071-1771027200-1771113599@anglicanministries.org
SUMMARY:St Valentine's Day
DESCRIPTION:
URL:https://anglicanministries.org/events/st-valentines-day/
LOCATION:TX
END:VEVENT
BEGIN:VEVENT
DTSTART;TZID=America/New_York:20260215T110000
DTEND;TZID=America/New_York:20260215T120000
DTSTAMP:20260423T125722
CREATED:20260117T034104Z
LAST-MODIFIED:20260117T034104Z
UID:8065-1771153200-1771156800@anglicanministries.org
SUMMARY:Quinquagesima
DESCRIPTION:Worship Service: Hymns\, Sermon\, Communion.
URL:https://anglicanministries.org/events/quinquagesima/
LOCATION:Grace Anglican Church\, 308 North Monroe St\, Waxahachie\, TX\, 75165
END:VEVENT
BEGIN:VEVENT
DTSTART;VALUE=DATE:20260218
DTEND;VALUE=DATE:20260219
DTSTAMP:20260423T125722
CREATED:20260117T040210Z
LAST-MODIFIED:20260117T040210Z
UID:8104-1771372800-1771459199@anglicanministries.org
SUMMARY:Fast and Abstinence
DESCRIPTION:
URL:https://anglicanministries.org/events/fast-and-abstinence-12/
LOCATION:TX
END:VEVENT
BEGIN:VEVENT
DTSTART;TZID=America/New_York:20260218T100000
DTEND;TZID=America/New_York:20260218T110000
DTSTAMP:20260423T125722
CREATED:20260117T034343Z
LAST-MODIFIED:20260203T192417Z
UID:8073-1771408800-1771412400@anglicanministries.org
SUMMARY:Ash Wednesday
DESCRIPTION:Worship Service: Hymns\, Sermon\, Communion.
URL:https://anglicanministries.org/events/ash-wednesday/
LOCATION:Grace Anglican Church\, 308 North Monroe St\, Waxahachie\, TX\, 75165
END:VEVENT
BEGIN:VEVENT
DTSTART;VALUE=DATE:20260220
DTEND;VALUE=DATE:20260221
DTSTAMP:20260423T125722
CREATED:20260117T033742Z
LAST-MODIFIED:20260117T033742Z
UID:8057-1771545600-1771631999@anglicanministries.org
SUMMARY:Fast and Abstinence
DESCRIPTION:
URL:https://anglicanministries.org/events/fast-and-abstinence-7/
LOCATION:TX
END:VEVENT
BEGIN:VEVENT
DTSTART;TZID=America/New_York:20260222T110000
DTEND;TZID=America/New_York:20260222T120000
DTSTAMP:20260423T125722
CREATED:20260117T034138Z
LAST-MODIFIED:20260117T034138Z
UID:8067-1771758000-1771761600@anglicanministries.org
SUMMARY:First Sunday in Lent
DESCRIPTION:Worship Service: Hymns\, Sermon\, Communion.
URL:https://anglicanministries.org/events/first-sunday-in-lent/
LOCATION:Grace Anglican Church\, 308 North Monroe St\, Waxahachie\, TX\, 75165
END:VEVENT
BEGIN:VEVENT
DTSTART;VALUE=DATE:20260224
DTEND;VALUE=DATE:20260225
DTSTAMP:20260423T125722
CREATED:20260117T034217Z
LAST-MODIFIED:20260117T034217Z
UID:8069-1771891200-1771977599@anglicanministries.org
SUMMARY:St Matthias' Day
DESCRIPTION:
URL:https://anglicanministries.org/events/st-matthias-day/
LOCATION:TX
END:VEVENT
BEGIN:VEVENT
DTSTART;VALUE=DATE:20260225
DTEND;VALUE=DATE:20260226
DTSTAMP:20260423T125722
CREATED:20260117T034406Z
LAST-MODIFIED:20260117T034406Z
UID:8075-1771977600-1772063999@anglicanministries.org
SUMMARY:Ember Wednesday
DESCRIPTION:
URL:https://anglicanministries.org/events/ember-wednesday-2/
LOCATION:TX
END:VEVENT
BEGIN:VEVENT
DTSTART;VALUE=DATE:20260227
DTEND;VALUE=DATE:20260228
DTSTAMP:20260423T125722
CREATED:20260117T033803Z
LAST-MODIFIED:20260117T034644Z
UID:8059-1772150400-1772236799@anglicanministries.org
SUMMARY:Fast and Abstinence Ember Friday
DESCRIPTION:
URL:https://anglicanministries.org/events/fast-and-abstinence-8/
LOCATION:TX
END:VEVENT
BEGIN:VEVENT
DTSTART;VALUE=DATE:20260228
DTEND;VALUE=DATE:20260301
DTSTAMP:20260423T125722
CREATED:20260117T034430Z
LAST-MODIFIED:20260117T034800Z
UID:8077-1772236800-1772323199@anglicanministries.org
SUMMARY:Ember Saturday
DESCRIPTION:
URL:https://anglicanministries.org/events/ember-saturday/
LOCATION:TX
END:VEVENT
END:VCALENDAR