BEGIN:VCALENDAR
VERSION:2.0
PRODID:-//Grace Anglican Church - ECPv6.15.20//NONSGML v1.0//EN
CALSCALE:GREGORIAN
METHOD:PUBLISH
X-WR-CALNAME:Grace Anglican Church
X-ORIGINAL-URL:https://anglicanministries.org
X-WR-CALDESC:Events for Grace Anglican Church
REFRESH-INTERVAL;VALUE=DURATION:PT1H
X-Robots-Tag:noindex
X-PUBLISHED-TTL:PT1H
BEGIN:VTIMEZONE
TZID:America/New_York
BEGIN:DAYLIGHT
TZOFFSETFROM:-0500
TZOFFSETTO:-0400
TZNAME:EDT
DTSTART:20250309T070000
END:DAYLIGHT
BEGIN:STANDARD
TZOFFSETFROM:-0400
TZOFFSETTO:-0500
TZNAME:EST
DTSTART:20251102T060000
END:STANDARD
BEGIN:DAYLIGHT
TZOFFSETFROM:-0500
TZOFFSETTO:-0400
TZNAME:EDT
DTSTART:20260308T070000
END:DAYLIGHT
BEGIN:STANDARD
TZOFFSETFROM:-0400
TZOFFSETTO:-0500
TZNAME:EST
DTSTART:20261101T060000
END:STANDARD
BEGIN:DAYLIGHT
TZOFFSETFROM:-0500
TZOFFSETTO:-0400
TZNAME:EDT
DTSTART:20270314T070000
END:DAYLIGHT
BEGIN:STANDARD
TZOFFSETFROM:-0400
TZOFFSETTO:-0500
TZNAME:EST
DTSTART:20271107T060000
END:STANDARD
END:VTIMEZONE
BEGIN:VEVENT
DTSTART;VALUE=DATE:20260501
DTEND;VALUE=DATE:20260502
DTSTAMP:20260423T112845
CREATED:20260203T192647Z
LAST-MODIFIED:20260203T192647Z
UID:8123-1777593600-1777679999@anglicanministries.org
SUMMARY:Fast and Abstinence
DESCRIPTION:
URL:https://anglicanministries.org/events/fast-and-abstinence-16/
LOCATION:TX
END:VEVENT
BEGIN:VEVENT
DTSTART;VALUE=DATE:20260501
DTEND;VALUE=DATE:20260502
DTSTAMP:20260423T112845
CREATED:20260412T023308Z
LAST-MODIFIED:20260412T023308Z
UID:8189-1777593600-1777679999@anglicanministries.org
SUMMARY:Ss. Philip & James Day
DESCRIPTION:
URL:https://anglicanministries.org/events/ss-philip-james-day/
LOCATION:TX
END:VEVENT
BEGIN:VEVENT
DTSTART;VALUE=DATE:20260502
DTEND;VALUE=DATE:20260503
DTSTAMP:20260423T112845
CREATED:20260412T023335Z
LAST-MODIFIED:20260412T023354Z
UID:8191-1777680000-1777766399@anglicanministries.org
SUMMARY:St Athanasius Day
DESCRIPTION:
URL:https://anglicanministries.org/events/st-athanasius-day/
LOCATION:TX
END:VEVENT
BEGIN:VEVENT
DTSTART;TZID=America/New_York:20260503T110000
DTEND;TZID=America/New_York:20260503T120000
DTSTAMP:20260423T112845
CREATED:20260412T021517Z
LAST-MODIFIED:20260412T021517Z
UID:8152-1777806000-1777809600@anglicanministries.org
SUMMARY:Fourth Sunday after Easter
DESCRIPTION:Worship Service: Hymns\, Sermon\, Communion.
URL:https://anglicanministries.org/events/fourth-sunday-after-easter/
LOCATION:Grace Anglican Church\, 308 North Monroe St\, Waxahachie\, TX\, 75165
END:VEVENT
BEGIN:VEVENT
DTSTART;TZID=America/New_York:20260506T190000
DTEND;TZID=America/New_York:20260506T200000
DTSTAMP:20260423T112845
CREATED:20260412T022920Z
LAST-MODIFIED:20260412T022920Z
UID:8181-1778094000-1778097600@anglicanministries.org
SUMMARY:Mid-Week Discussion
DESCRIPTION:Meet in the Parish Hall Library
URL:https://anglicanministries.org/events/mid-week-discussion-3/
LOCATION:Grace Anglican Church\, 308 North Monroe St\, Waxahachie\, TX\, 75165
END:VEVENT
BEGIN:VEVENT
DTSTART;VALUE=DATE:20260508
DTEND;VALUE=DATE:20260509
DTSTAMP:20260423T112845
CREATED:20260412T021140Z
LAST-MODIFIED:20260412T021140Z
UID:8141-1778198400-1778284799@anglicanministries.org
SUMMARY:Fast and Abstinence
DESCRIPTION:
URL:https://anglicanministries.org/events/fast-and-abstinence-18/
LOCATION:TX
END:VEVENT
BEGIN:VEVENT
DTSTART;TZID=America/New_York:20260510T110000
DTEND;TZID=America/New_York:20260510T120000
DTSTAMP:20260423T112845
CREATED:20260412T021614Z
LAST-MODIFIED:20260412T023730Z
UID:8154-1778410800-1778414400@anglicanministries.org
SUMMARY:Rogation Sunday
DESCRIPTION:Worship Service: Hymns\, Sermon\, Communion.
URL:https://anglicanministries.org/events/fifth-sunday-after-easter/
LOCATION:Grace Anglican Church\, 308 North Monroe St\, Waxahachie\, TX\, 75165
END:VEVENT
BEGIN:VEVENT
DTSTART;VALUE=DATE:20260511
DTEND;VALUE=DATE:20260512
DTSTAMP:20260423T112845
CREATED:20260412T023418Z
LAST-MODIFIED:20260412T023418Z
UID:8194-1778457600-1778543999@anglicanministries.org
SUMMARY:Rogation Monday
DESCRIPTION:
URL:https://anglicanministries.org/events/rogation-monday/
LOCATION:TX
END:VEVENT
BEGIN:VEVENT
DTSTART;VALUE=DATE:20260512
DTEND;VALUE=DATE:20260513
DTSTAMP:20260423T112845
CREATED:20260412T023441Z
LAST-MODIFIED:20260412T023441Z
UID:8196-1778544000-1778630399@anglicanministries.org
SUMMARY:Rogation Tuesday
DESCRIPTION:
URL:https://anglicanministries.org/events/rogation-tuesday/
LOCATION:TX
END:VEVENT
BEGIN:VEVENT
DTSTART;VALUE=DATE:20260513
DTEND;VALUE=DATE:20260514
DTSTAMP:20260423T112845
CREATED:20260412T023205Z
LAST-MODIFIED:20260412T023205Z
UID:8187-1778630400-1778716799@anglicanministries.org
SUMMARY:No Mid-Week tonight\, Vigil of the Ascension
DESCRIPTION:
URL:https://anglicanministries.org/events/no-mid-week-tonight-vigil-of-the-ascension/
LOCATION:TX
END:VEVENT
BEGIN:VEVENT
DTSTART;TZID=America/New_York:20260514T190000
DTEND;TZID=America/New_York:20260514T200000
DTSTAMP:20260423T112845
CREATED:20260412T022006Z
LAST-MODIFIED:20260412T022006Z
UID:8164-1778785200-1778788800@anglicanministries.org
SUMMARY:Ascension Day
DESCRIPTION:Worship Service: Hymns\, Sermon\, Communion.
URL:https://anglicanministries.org/events/ascension-day/
LOCATION:Grace Anglican Church\, 308 North Monroe St\, Waxahachie\, TX\, 75165
END:VEVENT
BEGIN:VEVENT
DTSTART;VALUE=DATE:20260515
DTEND;VALUE=DATE:20260516
DTSTAMP:20260423T112845
CREATED:20260412T021156Z
LAST-MODIFIED:20260412T021156Z
UID:8143-1778803200-1778889599@anglicanministries.org
SUMMARY:Fast and Abstinence
DESCRIPTION:
URL:https://anglicanministries.org/events/fast-and-abstinence-19/
LOCATION:TX
END:VEVENT
BEGIN:VEVENT
DTSTART;TZID=America/New_York:20260516T100000
DTEND;TZID=America/New_York:20260516T120000
DTSTAMP:20260423T112845
CREATED:20260412T024022Z
LAST-MODIFIED:20260412T024022Z
UID:8203-1778925600-1778932800@anglicanministries.org
SUMMARY:Church work day
DESCRIPTION:
URL:https://anglicanministries.org/events/church-work-day/
LOCATION:Grace Anglican Church\, 308 North Monroe St\, Waxahachie\, TX\, 75165
END:VEVENT
BEGIN:VEVENT
DTSTART;TZID=America/New_York:20260517T110000
DTEND;TZID=America/New_York:20260517T120000
DTSTAMP:20260423T112845
CREATED:20260412T021655Z
LAST-MODIFIED:20260412T021655Z
UID:8156-1779015600-1779019200@anglicanministries.org
SUMMARY:Sixth Sunday after Easter
DESCRIPTION:Worship Service: Hymns\, Sermon\, Communion.
URL:https://anglicanministries.org/events/sixth-sunday-after-easter/
LOCATION:Grace Anglican Church\, 308 North Monroe St\, Waxahachie\, TX\, 75165
END:VEVENT
BEGIN:VEVENT
DTSTART;TZID=America/New_York:20260517T110000
DTEND;TZID=America/New_York:20260517T120000
DTSTAMP:20260423T112845
CREATED:20260412T021745Z
LAST-MODIFIED:20260412T021745Z
UID:8158-1779015600-1779019200@anglicanministries.org
SUMMARY:Sunday after Ascension
DESCRIPTION:Worship Service: Hymns\, Sermon\, Communion.
URL:https://anglicanministries.org/events/sunday-after-ascension/
LOCATION:Grace Anglican Church\, 308 North Monroe St\, Waxahachie\, TX\, 75165
END:VEVENT
BEGIN:VEVENT
DTSTART;TZID=America/New_York:20260520T190000
DTEND;TZID=America/New_York:20260520T200000
DTSTAMP:20260423T112845
CREATED:20260412T023026Z
LAST-MODIFIED:20260412T023026Z
UID:8183-1779303600-1779307200@anglicanministries.org
SUMMARY:Mid-Week Discussion
DESCRIPTION:Meet in the Parish Hall Library
URL:https://anglicanministries.org/events/mid-week-discussion-4/
LOCATION:Grace Anglican Church\, 308 North Monroe St\, Waxahachie\, TX\, 75165
END:VEVENT
BEGIN:VEVENT
DTSTART;VALUE=DATE:20260522
DTEND;VALUE=DATE:20260523
DTSTAMP:20260423T112845
CREATED:20260412T021214Z
LAST-MODIFIED:20260412T021214Z
UID:8145-1779408000-1779494399@anglicanministries.org
SUMMARY:Fast and Abstinence
DESCRIPTION:
URL:https://anglicanministries.org/events/fast-and-abstinence-20/
LOCATION:TX
END:VEVENT
BEGIN:VEVENT
DTSTART;TZID=America/New_York:20260524T110000
DTEND;TZID=America/New_York:20260524T120000
DTSTAMP:20260423T112845
CREATED:20260412T021822Z
LAST-MODIFIED:20260412T021822Z
UID:8160-1779620400-1779624000@anglicanministries.org
SUMMARY:Whitsunday
DESCRIPTION:Worship Service: Hymns\, Sermon\, Communion.
URL:https://anglicanministries.org/events/whitsunday/
LOCATION:Grace Anglican Church\, 308 North Monroe St\, Waxahachie\, TX\, 75165
END:VEVENT
BEGIN:VEVENT
DTSTART;VALUE=DATE:20260525
DTEND;VALUE=DATE:20260526
DTSTAMP:20260423T112845
CREATED:20260412T023523Z
LAST-MODIFIED:20260412T023523Z
UID:8198-1779667200-1779753599@anglicanministries.org
SUMMARY:Monday in Whitsun Week
DESCRIPTION:
URL:https://anglicanministries.org/events/monday-in-whitsun-week/
LOCATION:TX
END:VEVENT
BEGIN:VEVENT
DTSTART;VALUE=DATE:20260526
DTEND;VALUE=DATE:20260527
DTSTAMP:20260423T112845
CREATED:20260412T023553Z
LAST-MODIFIED:20260412T023553Z
UID:8200-1779753600-1779839999@anglicanministries.org
SUMMARY:Tuesday in Whitsun Week
DESCRIPTION:
URL:https://anglicanministries.org/events/tuesday-in-whitsun-week/
LOCATION:TX
END:VEVENT
BEGIN:VEVENT
DTSTART;VALUE=DATE:20260527
DTEND;VALUE=DATE:20260528
DTSTAMP:20260423T112845
CREATED:20260412T022050Z
LAST-MODIFIED:20260412T022204Z
UID:8166-1779840000-1779926399@anglicanministries.org
SUMMARY:Ember Wednesday ~ Fast & Abstinence
DESCRIPTION:
URL:https://anglicanministries.org/events/ember-wednesday/
LOCATION:TX
END:VEVENT
BEGIN:VEVENT
DTSTART;VALUE=DATE:20260529
DTEND;VALUE=DATE:20260530
DTSTAMP:20260423T112845
CREATED:20260412T022126Z
LAST-MODIFIED:20260412T023836Z
UID:8168-1780012800-1780099199@anglicanministries.org
SUMMARY:Ember Friday ~ Fast & Abstinence
DESCRIPTION:
URL:https://anglicanministries.org/events/ember-friday-fast-abstinence/
LOCATION:TX
END:VEVENT
BEGIN:VEVENT
DTSTART;VALUE=DATE:20260530
DTEND;VALUE=DATE:20260531
DTSTAMP:20260423T112845
CREATED:20260412T022141Z
LAST-MODIFIED:20260412T022311Z
UID:8170-1780099200-1780185599@anglicanministries.org
SUMMARY:Ember Saturday ~ Fast & Abstinence
DESCRIPTION:
URL:https://anglicanministries.org/events/ember-saturday-fast-abstinence/
LOCATION:TX
END:VEVENT
BEGIN:VEVENT
DTSTART;TZID=America/New_York:20260531T110000
DTEND;TZID=America/New_York:20260531T120000
DTSTAMP:20260423T112845
CREATED:20260412T021854Z
LAST-MODIFIED:20260412T021854Z
UID:8162-1780225200-1780228800@anglicanministries.org
SUMMARY:Trinity Sunday
DESCRIPTION:Worship Service: Hymns\, Sermon\, Communion.
URL:https://anglicanministries.org/events/trinity-sunday/
LOCATION:Grace Anglican Church\, 308 North Monroe St\, Waxahachie\, TX\, 75165
END:VEVENT
END:VCALENDAR